BEGIN:VCALENDAR
VERSION:2.0
PRODID:-//eventon.com NONSGML v1.0//EN
CALSCALE:GREGORIAN
METHOD:PUBLISH
BEGIN:VEVENT
UID:69e888ef976cf
DTSTAMP:20260422T083807Z
DTSTART:20220701
DTEND:20220702
LOCATION:Hotel Posthuis
SUMMARY:Trailrunning Melchsee-Frutt
DESCRIPTION:Trailrunning vom feinsten erlebst du in der wunderschönen Regi
 on rund um Melchsee-Frutt im Kanton Obwalden. &nbsp;\nhttps://www.vikmotion
 .ch/events/trailrunning-melchsee-frutt/
URL:https://www.vikmotion.ch/events/trailrunning-melchsee-frutt/
END:VEVENT
END:VCALENDAR