BEGIN:VCALENDAR
VERSION:2.0
PRODID:-//eventon.com NONSGML v1.0//EN
CALSCALE:GREGORIAN
METHOD:PUBLISH
BEGIN:VEVENT
UID:69e5e0a1cc0fe
DTSTAMP:20260420T081529Z
DTSTART:20230318
DTEND:20230319
LOCATION:
SUMMARY:Laufwoche Andalusien
DESCRIPTION:Sei bereit für die Laufsaison! Einsteiger und fortgeschrittene
  Läufer:innen\,  welche mindestens 45 Min. am Stück in einer Pace von 6.3
 0 Min./km oder schneller laufen können\,  erfahren in Theorie und Praxis\,
   was zu einem abwechslungsreichen und kompletten Lauftraining gehört.\nht
 tps://www.vikmotion.ch/events/laufwoche-andalusien/
URL:https://www.vikmotion.ch/events/laufwoche-andalusien/
END:VEVENT
END:VCALENDAR