BEGIN:VCALENDAR
VERSION:2.0
PRODID:-//eventon.com NONSGML v1.0//EN
CALSCALE:GREGORIAN
METHOD:PUBLISH
BEGIN:VEVENT
UID:69e88cf2d35f7
DTSTAMP:20260422T085514Z
DTSTART:20260906T060000Z
DTEND:20260906T140000Z
LOCATION:Sarnersee
SUMMARY:Sarnersee Lauf
DESCRIPTION:Der schnellste Halbmarathon der Schweiz. 21.1km rund um den wun
 derschönen Sarnersee\,  inmitten einer grandiosen Alpenkulisse. Mit 10 km-
 Lauf\,  5 km Run &amp; Fun\,  Viktor Röthlins Klassenduell und Mini-Run.\n
 https://www.vikmotion.ch/events/sarnersee-lauf/
URL:https://www.vikmotion.ch/events/sarnersee-lauf/
END:VEVENT
END:VCALENDAR